BEGIN:VCALENDAR
VERSION:2.0
PRODID:-//Schirmer Theatrical - ECPv6.7.1//NONSGML v1.0//EN
CALSCALE:GREGORIAN
METHOD:PUBLISH
X-WR-CALNAME:Schirmer Theatrical
X-ORIGINAL-URL:https://schirmertheatrical.com
X-WR-CALDESC:Events for Schirmer Theatrical
REFRESH-INTERVAL;VALUE=DURATION:PT1H
X-Robots-Tag:noindex
X-PUBLISHED-TTL:PT1H
BEGIN:VTIMEZONE
TZID:America/New_York
BEGIN:DAYLIGHT
TZOFFSETFROM:-0500
TZOFFSETTO:-0400
TZNAME:EDT
DTSTART:20260308T070000
END:DAYLIGHT
BEGIN:STANDARD
TZOFFSETFROM:-0400
TZOFFSETTO:-0500
TZNAME:EST
DTSTART:20261101T060000
END:STANDARD
END:VTIMEZONE
BEGIN:VEVENT
DTSTART;TZID=America/New_York:20260530T193000
DTEND;TZID=America/New_York:20260530T220000
DTSTAMP:20260423T084911
CREATED:20260220T191456Z
LAST-MODIFIED:20260220T191456Z
UID:8269-1780169400-1780178400@schirmertheatrical.com
SUMMARY:Revolution\, Hartford Symphony
DESCRIPTION:One of the most innovative and immersive experiences of The Beatles comes to life in Revolution: The Music of The Beatles – A Symphonic Experience\, the authorized symphonic tribute to the Fab Four\, featuring top vocalists and musicians accompanied by Grammy-winner Jeff Tyzik’s authentic arrangements transcribed and arranged from the original master recordings at Abbey Road. Accompanied by hundreds of rare and unseen photos from the historic\, London-based archives of The Beatles’ official fan magazine – The Beatles Book Monthly – along with stunning video and animation\, Revolution takes audiences on a magical musical and visual journey of The Beatles
URL:https://schirmertheatrical.com/event/revolution-hartford-symphony/
LOCATION:Mortensen Hall\, 166 Capitol Ave\, Hartford\, CT\, 06106\, United States
ATTACH;FMTTYPE=image/png:https://schirmertheatrical.com/wp-content/uploads/2022/05/Revolution-Concert-Program-768-×-517-px.png
END:VEVENT
END:VCALENDAR